BEGIN:VCALENDAR
VERSION:2.0
PRODID:-//wp-events-plugin.com//6.5.2//EN
TZID:Europe/Berlin
X-WR-TIMEZONE:Europe/Berlin
BEGIN:VEVENT
UID:1023@top-tables.de
DTSTART;TZID=Europe/Berlin:20240622T100000
DTEND;TZID=Europe/Berlin:20240622T210000
DTSTAMP:20240618T085312Z
URL:https://www.top-tables.de/events/x-wing-turnier-kireg-der-sternengasse
 -ii-im-top-tables
SUMMARY:X-Wing Turnier: Kireg der Sterne(n)gasse II im Top Tables
DESCRIPTION:Hallo liebe Star Wars Fans\,\n\n&nbsp\;\n\nunsere X-Wing Turnie
 rserie geht in die 2. Runde. Am Samstag\, den 22.06. startet das Event. Hi
 er der Link zur Anmeldung:\n\nhttps://www.tabletopturniere.de/t3_tournamen
 t.php?tid=35352\n\nViel Spaß und möge der Tie-Fighter mit Euch sein.\n\n
 Euer Top Tables Team
CATEGORIES:Community,Event
END:VEVENT
BEGIN:VTIMEZONE
TZID:Europe/Berlin
X-LIC-LOCATION:Europe/Berlin
BEGIN:DAYLIGHT
DTSTART:20240331T030000
TZOFFSETFROM:+0100
TZOFFSETTO:+0200
TZNAME:CEST
END:DAYLIGHT
END:VTIMEZONE
END:VCALENDAR