BEGIN:VCALENDAR
VERSION:2.0
PRODID:-//wp-events-plugin.com//6.5.2//EN
TZID:Europe/Berlin
X-WR-TIMEZONE:Europe/Berlin
BEGIN:VEVENT
UID:362@top-tables.de
DTSTART;TZID=Europe/Berlin:20221015T120000
DTEND;TZID=Europe/Berlin:20221015T180000
DTSTAMP:20220731T124414Z
URL:https://www.top-tables.de/events/wolsung-demo-tag
SUMMARY:"Wolsung" Demo-Tag
DESCRIPTION:Wolsung? ...Was ist das? Tja\, um das herauszufinden: schaut ei
 nfach vorbei. Unser Community-Member Wolfgang entführt euch in ein verrü
 ckte Welt des kleinen Skirmishers.\n\nEine Anmeldung ist nicht nötig und 
 der Eintritt ist frei!
LOCATION:Top Tables Köln\, Sternengasse 1b\, Köln\, Nordrhein-Westfalen\,
  50676\, Deutschland
X-APPLE-STRUCTURED-LOCATION;VALUE=URI;X-ADDRESS=Sternengasse 1b\, Köln\, N
 ordrhein-Westfalen\, 50676\, Deutschland;X-APPLE-RADIUS=100;X-TITLE=Top Ta
 bles Köln:geo:0,0
END:VEVENT
BEGIN:VTIMEZONE
TZID:Europe/Berlin
X-LIC-LOCATION:Europe/Berlin
BEGIN:DAYLIGHT
DTSTART:20220327T030000
TZOFFSETFROM:+0100
TZOFFSETTO:+0200
TZNAME:CEST
END:DAYLIGHT
END:VTIMEZONE
END:VCALENDAR