BEGIN:VCALENDAR
VERSION:2.0
PRODID:-//wp-events-plugin.com//6.5.2//EN
TZID:Europe/Berlin
X-WR-TIMEZONE:Europe/Berlin
BEGIN:VEVENT
UID:274@top-tables.de
DTSTART;TZID=Europe/Berlin:20220611T090000
DTEND;TZID=Europe/Berlin:20220611T200000
DTSTAMP:20220511T121037Z
URL:https://www.top-tables.de/events/warmachine-hordes-turnier
SUMMARY:Warmachine/ Hordes Turnier
DESCRIPTION:Das Turnier wird bei uns im Laden veranstaltet.\n\nZum anmelden
  und für weitere Infos\, nutzt bitte diesen Link:https://www.tabletopturn
 iere.de/t3_tournament.php?tid=29411\n\n&nbsp\;
END:VEVENT
BEGIN:VTIMEZONE
TZID:Europe/Berlin
X-LIC-LOCATION:Europe/Berlin
BEGIN:DAYLIGHT
DTSTART:20220327T030000
TZOFFSETFROM:+0100
TZOFFSETTO:+0200
TZNAME:CEST
END:DAYLIGHT
END:VTIMEZONE
END:VCALENDAR