BEGIN:VCALENDAR
VERSION:2.0
PRODID:-//wp-events-plugin.com//6.5.2//EN
TZID:Europe/Berlin
X-WR-TIMEZONE:Europe/Berlin
BEGIN:VEVENT
UID:276@top-tables.de
DTSTART;TZID=Europe/Berlin:20220526T090000
DTEND;TZID=Europe/Berlin:20220526T213000
DTSTAMP:20220516T104105Z
URL:https://www.top-tables.de/events/warhammer-40k-tag-team-turnier
SUMMARY:Warhammer 40K Tag-Team Turnier
DESCRIPTION:Im Top Tables findet ein Tag-Team Turnier für WH 40K statt.\n\
 nEs wird in 2er Teams gegeneinander gespielt.\n\nAnmeldungen bitte über T
 3: https://www.tabletopturniere.de/t3_tournament.php?tid=29557 
END:VEVENT
BEGIN:VTIMEZONE
TZID:Europe/Berlin
X-LIC-LOCATION:Europe/Berlin
BEGIN:DAYLIGHT
DTSTART:20220327T030000
TZOFFSETFROM:+0100
TZOFFSETTO:+0200
TZNAME:CEST
END:DAYLIGHT
END:VTIMEZONE
END:VCALENDAR