BEGIN:VCALENDAR
VERSION:2.0
PRODID:-//wp-events-plugin.com//6.5.2//EN
TZID:Europe/Berlin
X-WR-TIMEZONE:Europe/Berlin
BEGIN:VEVENT
UID:329@top-tables.de
DTSTART;TZID=Europe/Berlin:20220724T120000
DTEND;TZID=Europe/Berlin:20220724T180000
DTSTAMP:20220606T155101Z
URL:https://www.top-tables.de/events/warhammer-40k-event
SUMMARY:Warhammer 40K Event
DESCRIPTION:Es wird den ganzen Tag Warhammer 40K gezockt!\n\nNicht-Mitglied
 er zahlen nur den Tagespass von 5€\, Tischreservierung entfällt!\n\nAb 
 der Player´s Card ist die Teilnahme kostenlos.
LOCATION:Top Tables Köln\, Sternengasse 1b\, Köln\, Nordrhein-Westfalen\,
  50676\, Deutschland
X-APPLE-STRUCTURED-LOCATION;VALUE=URI;X-ADDRESS=Sternengasse 1b\, Köln\, N
 ordrhein-Westfalen\, 50676\, Deutschland;X-APPLE-RADIUS=100;X-TITLE=Top Ta
 bles Köln:geo:0,0
END:VEVENT
BEGIN:VTIMEZONE
TZID:Europe/Berlin
X-LIC-LOCATION:Europe/Berlin
BEGIN:DAYLIGHT
DTSTART:20220327T030000
TZOFFSETFROM:+0100
TZOFFSETTO:+0200
TZNAME:CEST
END:DAYLIGHT
END:VTIMEZONE
END:VCALENDAR