BEGIN:VCALENDAR
VERSION:2.0
PRODID:-//wp-events-plugin.com//6.5.2//EN
TZID:Europe/Berlin
X-WR-TIMEZONE:Europe/Berlin
BEGIN:VEVENT
UID:327@top-tables.de
DTSTART;TZID=Europe/Berlin:20221023T120000
DTEND;TZID=Europe/Berlin:20221023T180000
DTSTAMP:20220812T111058Z
URL:https://www.top-tables.de/events/top-tables-flohmarkt
SUMMARY:Top Tables Flohmarkt
DESCRIPTION:Ihr könnt bei uns Tische mieten und euren Pile of Shame bei un
 s im Laden verkaufen.\n\n6x4 Fuß großer Tisch 5€ und 4x4 Fuß 3€\n\n
 Tischbuchungen bitte über: mareike@top-tables.de
LOCATION:Top Tables Köln\, Sternengasse 1b\, Köln\, Nordrhein-Westfalen\,
  50676\, Deutschland
X-APPLE-STRUCTURED-LOCATION;VALUE=URI;X-ADDRESS=Sternengasse 1b\, Köln\, N
 ordrhein-Westfalen\, 50676\, Deutschland;X-APPLE-RADIUS=100;X-TITLE=Top Ta
 bles Köln:geo:0,0
END:VEVENT
BEGIN:VTIMEZONE
TZID:Europe/Berlin
X-LIC-LOCATION:Europe/Berlin
BEGIN:DAYLIGHT
DTSTART:20220327T030000
TZOFFSETFROM:+0100
TZOFFSETTO:+0200
TZNAME:CEST
END:DAYLIGHT
END:VTIMEZONE
END:VCALENDAR