BEGIN:VCALENDAR
VERSION:2.0
PRODID:-//wp-events-plugin.com//6.5.2//EN
TZID:Europe/Berlin
X-WR-TIMEZONE:Europe/Berlin
BEGIN:VEVENT
UID:843@top-tables.de
DTSTART;TZID=Europe/Berlin:20231014T100000
DTEND;TZID=Europe/Berlin:20231014T200000
DTSTAMP:20230830T084132Z
URL:https://www.top-tables.de/events/star-wars-shatterpoint-community-turn
 ier
SUMMARY:Star Wars Shatterpoint Community Turnier
DESCRIPTION:In 3 Runden könnt Ihr Euch mit Eurer Truppe gegen andere Spiel
 er behaupten.\nJeder Spieler legt eine Truppe aus 2 Crews fest\, mit denen
  er das Turnier bestreiten möchte.\nKeine Bemalpflicht aber wer eine voll
  bemalte Truppe dabei hat kann am Best Painted Contest teilnehmen.\n\nTop 
 Tables Member erhalten 30% und Top Tables VIP Member erhalten 50% Rabatt a
 uf die Teilnahme.
LOCATION:Top Tables Köln\, Sternengasse 1b\, Köln\, Nordrhein-Westfalen\,
  50676\, Deutschland
X-APPLE-STRUCTURED-LOCATION;VALUE=URI;X-ADDRESS=Sternengasse 1b\, Köln\, N
 ordrhein-Westfalen\, 50676\, Deutschland;X-APPLE-RADIUS=100;X-TITLE=Top Ta
 bles Köln:geo:0,0
END:VEVENT
BEGIN:VTIMEZONE
TZID:Europe/Berlin
X-LIC-LOCATION:Europe/Berlin
BEGIN:DAYLIGHT
DTSTART:20230326T030000
TZOFFSETFROM:+0100
TZOFFSETTO:+0200
TZNAME:CEST
END:DAYLIGHT
END:VTIMEZONE
END:VCALENDAR