BEGIN:VCALENDAR
VERSION:2.0
PRODID:-//wp-events-plugin.com//6.5.2//EN
TZID:Europe/Berlin
X-WR-TIMEZONE:Europe/Berlin
BEGIN:VEVENT
UID:280@top-tables.de
DTSTART;TZID=Europe/Berlin:20220606T120000
DTEND;TZID=Europe/Berlin:20220606T180000
DTSTAMP:20220601T160832Z
URL:https://www.top-tables.de/events/star-wars-legion-event-2
SUMMARY:Star Wars Legion Event
DESCRIPTION:An diesem Montag könnt ihr von 12-18 Uhr bei uns Legion spiele
 n. Es gibt 10 Plätze. Die Teilnahem kostet 5€\, ab der Players Card ist
  sie umsonst.  Wird im Laden an der Kasse bezahlt.\n\n&nbsp\;
LOCATION:Top Tables Köln\, Sternengasse 1b\, Köln\, Nordrhein-Westfalen\,
  50676\, Deutschland
X-APPLE-STRUCTURED-LOCATION;VALUE=URI;X-ADDRESS=Sternengasse 1b\, Köln\, N
 ordrhein-Westfalen\, 50676\, Deutschland;X-APPLE-RADIUS=100;X-TITLE=Top Ta
 bles Köln:geo:0,0
END:VEVENT
BEGIN:VTIMEZONE
TZID:Europe/Berlin
X-LIC-LOCATION:Europe/Berlin
BEGIN:DAYLIGHT
DTSTART:20220327T030000
TZOFFSETFROM:+0100
TZOFFSETTO:+0200
TZNAME:CEST
END:DAYLIGHT
END:VTIMEZONE
END:VCALENDAR