BEGIN:VCALENDAR
VERSION:2.0
PRODID:-//wp-events-plugin.com//6.5.2//EN
TZID:Europe/Berlin
X-WR-TIMEZONE:Europe/Berlin
BEGIN:VEVENT
UID:352@top-tables.de
DTSTART;TZID=Europe/Berlin:20220925T120000
DTEND;TZID=Europe/Berlin:20220925T180000
DTSTAMP:20220824T081717Z
URL:https://www.top-tables.de/events/miniaturen-brettspieltag
SUMMARY:Miniaturen-Brettspieltag
DESCRIPTION:Entstaubt eure alten Dungeon Crawler und kommt vorbei! Heute we
 rden nur Miniaturen-Brettspiele gespielt.\n\nMeldet euch an und gebt bei d
 er Anmeldung bitte an\, welches Spiel ihr mitbringt.\n\nDie Teilnahme für
  Nicht-Mitglieder kostet für den ganzen Tag 3\,50€. Ab der Player´s Ca
 rd ist die Teilnahme kostenlos!\n\n&nbsp\;
LOCATION:Top Tables Köln\, Sternengasse 1b\, Köln\, Nordrhein-Westfalen\,
  50676\, Deutschland
X-APPLE-STRUCTURED-LOCATION;VALUE=URI;X-ADDRESS=Sternengasse 1b\, Köln\, N
 ordrhein-Westfalen\, 50676\, Deutschland;X-APPLE-RADIUS=100;X-TITLE=Top Ta
 bles Köln:geo:0,0
END:VEVENT
BEGIN:VTIMEZONE
TZID:Europe/Berlin
X-LIC-LOCATION:Europe/Berlin
BEGIN:DAYLIGHT
DTSTART:20220327T030000
TZOFFSETFROM:+0100
TZOFFSETTO:+0200
TZNAME:CEST
END:DAYLIGHT
END:VTIMEZONE
END:VCALENDAR