BEGIN:VCALENDAR
VERSION:2.0
PRODID:-//wp-events-plugin.com//6.5.2//EN
TZID:Europe/Berlin
X-WR-TIMEZONE:Europe/Berlin
BEGIN:VEVENT
UID:331@top-tables.de
DTSTART;TZID=Europe/Berlin:20220710T120000
DTEND;TZID=Europe/Berlin:20220710T180000
DTSTAMP:20220613T062743Z
URL:https://www.top-tables.de/events/miniaturen-bemalkurs-ii
SUMMARY:Miniaturen Bemalkurs II
DESCRIPTION:Dieser Kurs baut auf den Miniaturen Bemalkurs I auf. Es werden 
 die Techniken Trockenbürsten und Layering vermittelt.\n\nDie dafür benö
 tigten Materialien bekommen die Teilnehmer per E-Mail nach Anmeldung mitge
 teilt\, das Top Tables stellt die zu bemalende Miniatur gebaut und grundie
 rt.\n\nDie Kosten belaufen sich auf 49€ pro Teilnehmer und müssen am Ta
 g selber an der Kasse bezahlt werden.\n\nDie Teilnehmerzahl wird auf max. 
 15 Plätze beschränkt.\n\nJeder Teilnehmer muss sich anmelden\, Sammelanm
 eldungen sind leider technisch nicht möglich.\n\n&nbsp\;\n\n&nbsp\;
LOCATION:Top Tables Köln\, Sternengasse 1b\, Köln\, Nordrhein-Westfalen\,
  50676\, Deutschland
X-APPLE-STRUCTURED-LOCATION;VALUE=URI;X-ADDRESS=Sternengasse 1b\, Köln\, N
 ordrhein-Westfalen\, 50676\, Deutschland;X-APPLE-RADIUS=100;X-TITLE=Top Ta
 bles Köln:geo:0,0
END:VEVENT
BEGIN:VTIMEZONE
TZID:Europe/Berlin
X-LIC-LOCATION:Europe/Berlin
BEGIN:DAYLIGHT
DTSTART:20220327T030000
TZOFFSETFROM:+0100
TZOFFSETTO:+0200
TZNAME:CEST
END:DAYLIGHT
END:VTIMEZONE
END:VCALENDAR