BEGIN:VCALENDAR
VERSION:2.0
PRODID:-//wp-events-plugin.com//6.5.2//EN
TZID:Europe/Berlin
X-WR-TIMEZONE:Europe/Berlin
BEGIN:VEVENT
UID:806@top-tables.de
DTSTART;TZID=Europe/Berlin:20230423T120000
DTEND;TZID=Europe/Berlin:20230423T180000
DTSTAMP:20230305T181829Z
URL:https://www.top-tables.de/events/miniaturen-bemalkurs-gesichter-und-ha
 are-malen-mit-bristle-and-broadsword
SUMMARY:Miniaturen- Bemalkurs "Gesichter und Haare malen" mit Bristle and B
 roadsword
DESCRIPTION:In diesem Kurs lernen die Teilnehmenden an einer Mini\, wie man
  Gesichter und Haare malt.\nDer Kurs wird wieder geleitet von Tobi\, dem M
 iniaturenmaler aus dem Studio "Bristle and Broadsword"\nMehr Infos über T
 obias und sein Studio findet ihr hier: https://bristle-and-broadsword.de 
 \n\nDer Kurs ist auf 10 Teilnehmende beschränkt\, da die Thematik etwas u
 mfangreicher ist und Tobias sich so mit jeder Person noch intensiver besch
 äftigen kann.\n\nNach der Anmeldung erhält jede/r Teilnehmer/in eine E-M
 ail mit Informationen darüber\, was für den Kurs benötigt wird.\n\nTop 
 Tables Member und VIP Member erhalten wie gewohnt ihre 30 bzw. 50% Rabatt 
 auf diese Veranstaltung.\n\nDie Teilnahmegebühr wird am Veranstaltungstag
  an der Kasse bezahlt.\n\n&nbsp\;\n\n&nbsp\;
LOCATION:Top Tables Köln\, Sternengasse 1b\, Köln\, Nordrhein-Westfalen\,
  50676\, Deutschland
X-APPLE-STRUCTURED-LOCATION;VALUE=URI;X-ADDRESS=Sternengasse 1b\, Köln\, N
 ordrhein-Westfalen\, 50676\, Deutschland;X-APPLE-RADIUS=100;X-TITLE=Top Ta
 bles Köln:geo:0,0
END:VEVENT
BEGIN:VTIMEZONE
TZID:Europe/Berlin
X-LIC-LOCATION:Europe/Berlin
BEGIN:DAYLIGHT
DTSTART:20230326T030000
TZOFFSETFROM:+0100
TZOFFSETTO:+0200
TZNAME:CEST
END:DAYLIGHT
END:VTIMEZONE
END:VCALENDAR