BEGIN:VCALENDAR
VERSION:2.0
PRODID:-//wp-events-plugin.com//6.5.2//EN
TZID:Europe/Berlin
X-WR-TIMEZONE:Europe/Berlin
BEGIN:VEVENT
UID:829@top-tables.de
DTSTART;TZID=Europe/Berlin:20230826T100000
DTEND;TZID=Europe/Berlin:20230826T200000
DTSTAMP:20230531T064112Z
URL:https://www.top-tables.de/events/middle-earth-turnier
SUMMARY:"Middle Earth" Turnier
DESCRIPTION:Anmeldung erfolgt über https://www.tabletopturniere.de/t3_tou
 rnament.php?tid=32525\n\n&nbsp\;\n\nMember und VIP Member des Top Tables e
 rhalten 30% bzw. 50% Rabatt.
LOCATION:Top Tables Köln\, Sternengasse 1b\, Köln\, Nordrhein-Westfalen\,
  50676\, Deutschland
X-APPLE-STRUCTURED-LOCATION;VALUE=URI;X-ADDRESS=Sternengasse 1b\, Köln\, N
 ordrhein-Westfalen\, 50676\, Deutschland;X-APPLE-RADIUS=100;X-TITLE=Top Ta
 bles Köln:geo:0,0
END:VEVENT
BEGIN:VTIMEZONE
TZID:Europe/Berlin
X-LIC-LOCATION:Europe/Berlin
BEGIN:DAYLIGHT
DTSTART:20230326T030000
TZOFFSETFROM:+0100
TZOFFSETTO:+0200
TZNAME:CEST
END:DAYLIGHT
END:VTIMEZONE
END:VCALENDAR