BEGIN:VCALENDAR
VERSION:2.0
PRODID:-//wp-events-plugin.com//6.5.2//EN
TZID:Europe/Berlin
X-WR-TIMEZONE:Europe/Berlin
BEGIN:VEVENT
UID:804@top-tables.de
DTSTART;TZID=Europe/Berlin:20230506T110000
DTEND;TZID=Europe/Berlin:20230506T200000
DTSTAMP:20230221T090659Z
URL:https://www.top-tables.de/events/middle-earth-turnier-praesentiert-von
 -den-bergischen-wuerfelloewen
SUMMARY:"Middle Earth"- Turnier präsentiert von den Bergischen Würfellöw
 en
DESCRIPTION:Das Turnier wird von den Bergischen Würfellöwen im Top Tables
  Köln veranstaltet.\n\nDie 1. Herrschau am Dom\npräsentiert von den Berg
 ischen Würfellöwen feat. Top Tables\, Köln\nam Samstag\, 06.05.2023\, v
 on 11.00 – 20.00 Uhr\n- Turnierablauf -\nSeid willkommen zu unserem 1. T
 urnier in Köln! \nMiddle Earth – Tabletop Turnier. („Der Herr der Rin
 ge“ und „Der Hobbit“)\nDas Turnier findet im Ladenlokal des Top Tabl
 es in Köln statt\, von dessen Betreibern wir tatkräftige Unterstützung 
 erhalten und denen wir an dieser Stelle unseren Dank aussprechen möchten.
 \nAdresse: Sternengasse 1B\, 50676 Köln\nZu-spät-Kommer Hotline: (+49151
 58063894) Ansprechpartner: Maximilian Suckow\nKontakt: +49 151 58063894\nS
 tartplätze: 16\nStartgeld: 15\,00€ (bis zum 23.04.2023\, 23.59 Uhr für
  ganz Schnelle)\, danach 18\,00€ (Abendkasse)\n \n\n\n 	 Zeitplan für 
 Samstag\, 06.05.2023:\n\n11.00 Uhr: Einlass\, Anmeldung und Begrüßung zu
 m Turnier\n11.30 Uhr - 13.00 Uhr: 1. Spiel (Szenario: Fog of War (Szenario
  11 aus dem Matched Play Guide))\n13:00 Uhr – 14:00 Uhr: Mittagspause\n1
 4.00 Uhr - 15.30 Uhr: 2. Spiel (Szenario: Destroy the Supplies (Szenario 1
 6 aus dem Matched Play Guide))\n- kurze Pause -\n16.00 Uhr -17.30 Uhr: 3. 
 Spiel (Szenario: Lord of Battle (Szenario 4 aus dem Matched Play Guide))\n
 - kurze Pause -\n18.00 Uhr - 19.30 Uhr: 4. Spiel (Szenario: Domination (Sz
 enario 1 aus dem Matched Play Guide))\n20.00 Uhr:  Siegerehrung und Ende 
 des Turniers.\n\n\n 	 Anmeldung\n\nDie Anmeldung erfolgt ausschließlich 
 über den Server von T3 – Tabletop Turniere.\nDer Startplatz für das Tu
 rnier ist euch erst mit der Überweisung des Startgeldes sicher.     
                           Die Startgebühr beträg
 t 15\,00€ (bis zum 23.04.2023\, 23.59 Uhr\, für ganz Schnelle)\, danach
  18\,00€ (Abendkasse).\nBitte überweist euer Startgeld auf folgendes Pa
 ypal-Konto: suckow.maximilian@gmail.com\nKontoinhaber: Maximilian Suckow\n
 Verwendungszweck: HTL Turnier Würfellöwen + „Spielername“\nBitte üb
 ersendet uns zudem die vollständig ausgefüllten\, gut lesbaren Armeebög
 en fristgerecht an die oben angegebene E-Mail-Adresse. Fristende für die 
 Einsendung ist Sonntag\, 23.04.2023\, um 23.59 Uhr.\nSollte euch eine fris
 tgerechte Einreichung der Listen nicht möglich sein\, kontaktiert uns bit
 te im Vorfeld.\nSollte es bei einer Armeeliste zu Unstimmigkeiten kommen\,
  werden wir euch gesondert informieren. Zudem behält sich die Turnierleit
 ung vor die Listen\, bei Bedarf\, mit den tatsächlich verwendeten Modelle
 n abzugleichen. Der Spieler/ die Spielerin hat darauf zu achten\, dass die
  aufgestellten Armeen auch denen seiner/ihrer Armeeliste entsprechen. Soll
 te dies versäumt werden und erst während des Turniers auffallen\, droht 
 ein entsprechender Punkteabzug.\n\n\n\n 	 Abmeldung\n\nSolltet ihr bereits
  angemeldet sein\, aber aus irgendeinem Grund doch nicht teilnehmen könne
 n\, so bitten wir euch\, uns rechtzeitig zu kontaktieren (maximilian.sucko
 w@outlook.de).\nEine Rückerstattung der Startgebühr\, im Falle eines Rü
 cktritts von der Anmeldung eurerseits\, ist aus organisatorischen Gründen
  nur bis zum 23.04.2023 möglich. Natürlich könnt ihr gern stattdessen a
 uch einen Ersatzspieler/ eine Ersatzspielerin für euch bei uns angeben. I
 n allen anderen Fällen heißt es Startgeld ist Reugeld.\nWir bitten um eu
 er Verständnis.\n \n\n\n 	 Speisen und Getränke\n\nGetränke und Snacks
  können zum kleinen Preis im Top Tables erworben werden.\nBei mitgebracht
 en Getränken ist darauf zu achten\, dass sich diese in wiederverschließb
 aren Flaschen oder Behältern befinden. (Bitte keine offenen Getränke mit
 bringen\, die bei unabsichtlichem Verschütten die Spieltische oder Matten
  verschmutzen könnten!)\nDer Genuss alkoholischer Getränke ist auf unser
 em Turnier verboten.\n\n\n\n 	 Minderjährige Teilnehmer\n\nAlle Teilnehme
 r müssen\, zu Beginn des Turniers\, mindestens 12 Jahre alt sein.\nAlle T
 eilnehmer\, die zu Beginn des Turniers noch keine 14 Jahre alt sind\, müs
 sen eine volljährige Begleitperson dabeihaben.\nAlle Teilnehmer unter 18 
 Jahren müssen zum Turnier eine schriftliche Einverständniserklärung ein
 es/ einer Erziehungsberechtigten mitbringen\, welche von diesem/ dieser be
 i der Turnierleitung eingereicht werden muss! Liegt diese Erklärung nicht
  vor\, so ist eine Teilnahme leider nicht möglich!\n\n\n\n 	 Haftung\n\nJ
 eder Turnierteilnehmer erklärt sich damit einverstanden\, dass er für Sc
 häden oder sonstige\, von ihm verursachten Unfälle\, selbst verantwortli
 ch ist und auch für den entstandenen Schaden aufkommen wird. Die Turnierl
 eitung übernimmt keinerlei Haftung für Schäden oder bei Unfällen\, ins
 besondere bei grob fahrlässiger oder gar vorsätzlicher Handlungsweise. F
 ür Kinder und Jugendliche haften die Erziehungsberechtigten.\n\n\n\n 	 Co
 vid-19\n\nZum jetzigen Zeitpunkt (Stand 15.02.2023) gilt im Ladenlokal des
  Top Tables bei Veranstaltungen keine Maskenpflicht.\nDiese Regelung könn
 te bei Anhalten der Pandemie bis zum Turniertag am 06.05.2023 allerdings n
 och eine Verschärfung durch die Behörden erfahren. Hierrüber werden wir
  euch an dieser Stelle rechtzeitig informieren.\n\n\n\n 	 Gewinn\n\nDie er
 sten drei Plätze dürfen sich über Gewinngutscheine des Top Tables im Ge
 samtwert von 120€ freuen\, 1. Platz 50€\, 2. Platz 30€ und 3. Platz 
 20€\, sofern die maximale Teilnehmerzahl erreicht wird. Bei weniger Teil
 nehmerinnen und Teilnehmern\, werden die Gewinngutscheine in ihrer Wertigk
 eit vom Veranstalter entsprechend angepasst.\nDie Gutscheine gelten selbst
 verständlich für das gesamte\, vom Top Tables angebotene Sortiment (z.B.
  auch für Gaming-Matten oder andere Spielsysteme sowie Bastelbedarf 😉)
 \nZusätzlich werden wir\, während der Mittagspause\, einen Best Painted 
 Award durchführen\, an dem jede/r teilnehmen darf\, der möchte. Der Spie
 ler/ die Spielerin mit der schönsten Armee kann sich über einen Gewinngu
 tschein im Wert von 20\,00€ freuen.\n \nWir behalten uns das Recht auf 
 Abänderungen der Ausschreibung vor. Wir werden alle Spieler*innen bei gr
 ößeren Änderungen rechtzeitig informieren!\nDie 1. Herrschau am Dom\n- 
 Informationen und Regeln -\n\n\n 	 Regeln\n\nAlle Regeln stammen aus dem i
 n Deutschland gültigen Regelwerk „Middle-Earth Tabletop-Strategiespiel
 “ von Games Workshop. Die Armeezusammenstellungen erfolgen ausschließli
 ch nach den Profilbüchern und der Bündnismatrix aus „Armeen aus Der He
 rr der Ringe“\, „Armeen aus Der Hobbit“\, „Gondor im Krieg“\, 
 „Krieg in Rohan“\, „Befreiung des Auenlandes“\, „Die Reise des R
 ingträgers“\, „Der Sturz des Nekromanten“\, „Die Verteidigung des
  Nordens“ „Strategy Battle Game Matched Play Guide“ sowie bis zum Ze
 itpunkt des Turniers etwaige weitere\, offizielle Ergänzungen an Profilen
  oder Regeln und die Errata von Games Workshop.\nAlle Maße sind in Zoll.\
 nEs werden 4 Spiele gespielt.\nJedes Spiel dauert regulär 90 Minuten\, ab
 er eine angefangene Spielrunde\, die noch spielentscheidend sein könnte\,
  darf noch schnell beendet werden.\nDie Paarungen werden von der Turnierle
 itung anhand des „Schweizer Systems“ zusammengestellt. Die Turnierleit
 ung wird darauf achten\, dass jeder Spieler/ jede Spielerin möglichst an 
 verschiedenen Spieltischen zum Einsatz kommt.\nIn keinem Szenario ist es e
 rlaubt Waffen oder andere Ausrüstungsgegenstände von ausgeschalteten Min
 iaturen aufzuheben.\nStandarten dürfen\, wie im Regelbuch beschrieben\, w
 eitergereicht werden.\n\n\n\n 	 Die Armeen\n\nJeder Spieler/ jede Spieleri
 n darf eine Armee zum Turnier mitbringen.\nDie Armee darf eine Gesamtpunkt
 zahl von 500 Punkten nicht überschreiten\, darf maximal aus 45 und muss m
 indestens aus 4 Modellen bestehen.\nFür die Zusammenstellung der Armee ge
 lten die Vorgaben für Kriegertrupps des aktuellen Regelwerkes. Eine Begre
 nzung für Helden-Modelle gibt es nicht\, die Armee kann also auch ganz au
 s Helden bestehen.\nWird von einem Spieler/ einer Spielerin nur eine Armee
  zum Turnier angemeldet\, muss jedes Spiel mit dieser Armee gespielt werde
 n.\nGeproxte Miniaturen sind nicht erlaubt\, Umbauten und Alternativen all
 erdings gern gesehen! Wenn ihr euch unsicher seid\, schreibt uns einfach a
 n und wir klären dies im Einzelfall. Ein alternatives Farbschema für Mod
 elle gilt nicht als Umbau. Heldenmodelle\, welche Helden mit anderem Profi
 l darstellen sollen (Legolas Grünblatt als Legolas\, Prinz des Düsterwal
 des z.B.)\, werden nicht als Proxies angesehen und sind erlaubt.\nAusnahme
 n:\n\n\n 	Gandalf der Graue darf nicht als Gandalf der Weiße eingesetzt w
 erden (und umgekehrt).\n 	Sauron darf nicht als der Nekromant eingesetzt w
 erden (und umgekehrt).\n\nBerittene Miniaturen dürfen nicht dadurch darge
 stellt werden\, dass ein Infanteriemodell auf eine 40mm Base\, neben ein R
 eittier\, gestellt wird.\nReittiere dürfen nicht geproxt werden. Ein Widd
 er darf also nicht als Pony eingesetzt werden\, usw.\n\n\n 	 Die Armeelist
 en\n\nVor dem Turnier ist der Turnierleitung die Armeeliste mit dem HTL-Ar
 meebogen (oder eine ähnlich übersichtliche Liste) zur Kontrolle zu über
 senden. Die Liste muss alle Modelle der Armee mit ihrem Punktwert\, inkl. 
 der verwendeten „gekauften“ Ausrüstung\, beinhalten.\nDer Spieler/ di
 e Spielerin hat der Turnierleitung einen korrekt ausgefüllten und gut les
 baren Armeebogen für seine/ ihre Armen abzugeben\, dafür erhält er/ sie
  10 Spielpunkte für die Gesamtwertung.\nBitte übersendet uns den Armeebo
 gen fristgerecht. Fristende für die Einsendung ist Sonntag\, 23.04.2023\,
  um 23.59 Uhr. Sendet die Armeeliste bitte mit eurem Namen an (maximilian.
 suckow@outlook.de).\nDie bei T3 Tabletop Turniere angegebene Liste bei der
  Anmeldung für das Turnier muss nicht den eingereichten und für das Turn
 ier vorgesehenen Armeelisten entsprechen.\nVor jeder Spielrunde muss die A
 rmee dem Gegner/ der Gegnerin kurz vorgestellt werden.\n\n\n\n 	 Bemalung 
 \n\nEine Bemal – Pflicht besteht bei unserem Turnier nicht\, um Einsteig
 er*innen in das Hobby nicht zu benachteiligen\, bzw. von der Turnierteilna
 hme abzuschrecken\, aber natürlich freuen wir uns über jede Armee\, die 
 bemalt und gebaset ist. Zudem wird es wieder einen Best Painted Award gebe
 n\, bei der jeder mitmachen darf. Der Gewinner/ die Gewinnerin des Awards 
 darf sich über einen Gewinngutschein für das TopTables in Höhe von 20\,
 00€ freuen.\n\n\n\n 	 Siege\, Unentschieden\, Niederlagen und Turnierpun
 kte \n\nFür die Ermittlung der Zwischen- und Endergebnisse wird das folge
 nde Wertungssystem zum Einsatz kommen. Während der Spiele wird\, wie übl
 ich\, um Siegpunkte gespielt\, diese entscheiden über den Ausgang des Spi
 els und wie viele Turnierpunkte die Spieler für die Turnierwertung bekomm
 en (siehe unten):\n\n\n 	Überragender Sieg! – 5 Turnierpunkte – (mind
 . 3 und dreimal so viele Siegpunkte\, wie der Gegner.)\n 	Großer Sieg. 
 – 4 Turnierpunkte – (mind. 2 und doppelt so viele Siegpunkte\, wie der
  Gegner.)\n 	– 3 Turnierpunkte – (mind. 1 und mehr Siegpunkte\, wie de
 r Gegner.)\n 	– 2 Turnierpunkte für beide –\n 	– 1 Turnierpunkt –
  (mind. 1 Siegpunkt\, aber weniger Siegpunkte\, wie der Gegner.)\n 	Verhee
 rende Niederlage! – 0 Turnierpunkte – (0 Siegpunkte und weniger Siegpu
 nkte\, wie der Gegner.)\n\nZudem erhält jede/r Spieler/in 10 zusätzliche
  Turnierpunkte für das fristgerechte Einreichen des Armeebogen.\nInsgesam
 t können so maximal 30 Turnierpunkte errungen werden (20 TP aus den Spiel
 en + 10 TP für die Armeebögen.)\nSollte es zu einem Gleichstand bei den 
 Turnierpunkten kommen\, entscheidet zunächst die Anzahl der errungenen Si
 egpunkte aus den Spielen über die Platzierung. Sollte es hier ebenfalls z
 u einem Gleichstand kommen\, entscheidet die Platzierung der Gegner über 
 die eigene Platzierung.\n\n\n\n 	 Sonstiges\n\nDie Entscheidungen der Schi
 edsrichter*innen sind bindend und zu akzeptieren. Es sei denn\, der Spiele
 r/ die Spielerin kann anhand der geltenden Regelwerke etwas anderes beweis
 en. Die Beweislast liegt aber in jedem Fall beim Spieler/ bei der Spieleri
 n.\nDie Spielplatten (48 x 48 Zoll bzw. 120 x 120cm) werden von der Turnie
 rleitung gestaltet und dürfen von den Spielern nicht verändert werden!\n
 &nbsp\;\n\nEs kann über T3 gebucht werden:  https://www.tabletopturniere
 .de/t3_tournament.php?tid=31827\nTop Tables Member und VIP Member erhalten
  30 bzw. 50% Rabatt auf die Teilnahegebühr.
LOCATION:Top Tables Köln\, Sternengasse 1b\, Köln\, Nordrhein-Westfalen\,
  50676\, Deutschland
X-APPLE-STRUCTURED-LOCATION;VALUE=URI;X-ADDRESS=Sternengasse 1b\, Köln\, N
 ordrhein-Westfalen\, 50676\, Deutschland;X-APPLE-RADIUS=100;X-TITLE=Top Ta
 bles Köln:geo:0,0
END:VEVENT
BEGIN:VTIMEZONE
TZID:Europe/Berlin
X-LIC-LOCATION:Europe/Berlin
BEGIN:DAYLIGHT
DTSTART:20230326T030000
TZOFFSETFROM:+0100
TZOFFSETTO:+0200
TZNAME:CEST
END:DAYLIGHT
END:VTIMEZONE
END:VCALENDAR