BEGIN:VCALENDAR
VERSION:2.0
PRODID:-//wp-events-plugin.com//6.5.2//EN
TZID:Europe/Berlin
X-WR-TIMEZONE:Europe/Berlin
BEGIN:VEVENT
UID:1534@top-tables.de
DTSTART;TZID=Europe/Berlin:20250628T100000
DTEND;TZID=Europe/Berlin:20250628T220000
DTSTAMP:20250530T110225Z
URL:https://www.top-tables.de/events/kbbl-cup-2025-blood-bowl
SUMMARY:KBBL Cup 2025 (Blood Bowl)
DESCRIPTION:Liebe Coaches\, es ist wieder so weit: am Samstag\, 28.06.2025\
 , findet der KBBL Cup statt!\n\nTeilnahme wie gewohnt mit euren Ligateams 
 nach Saisonübergang\, oder mit den neuen Teams für die kommende KBBL ode
 r KCBBL Saison.\n\nLink zum Forum: https://www.koelnbbl.de/viewtopic.php?f
 =35&amp\;p=23476#p23476\nAnmeldung im Forum und per mail an: event@top-tab
 les.de
ATTACH;FMTTYPE=image/jpeg:https://www.top-tables.de/wp-content/uploads/202
 5/05/20231030_210042-scaled-e1748602695853.jpg
CATEGORIES:Community,Event,Turnier
END:VEVENT
BEGIN:VTIMEZONE
TZID:Europe/Berlin
X-LIC-LOCATION:Europe/Berlin
BEGIN:DAYLIGHT
DTSTART:20250330T030000
TZOFFSETFROM:+0100
TZOFFSETTO:+0200
TZNAME:CEST
END:DAYLIGHT
END:VTIMEZONE
END:VCALENDAR