BEGIN:VCALENDAR
VERSION:2.0
PRODID:-//wp-events-plugin.com//6.5.2//EN
TZID:Europe/Berlin
X-WR-TIMEZONE:Europe/Berlin
BEGIN:VEVENT
UID:686@top-tables.de
DTSTART;TZID=Europe/Berlin;VALUE=DATE:20230219
DTEND;TZID=Europe/Berlin;VALUE=DATE:20230220
DTSTAMP:20230123T160828Z
URL:https://www.top-tables.de/events/inventur-laden-geschlossen-4
SUMMARY:Inventur- Laden geschlossen
DESCRIPTION:\n\n\n\nAlle Jahre wieder … wegen Inventur bleibt das Top Tab
 les vom 16.02.23- 19.02.23 (ich hoffe wir können Sonntag schon wieder öf
 fnen) geschlossen.\n\nWir danken für euer Verständnis!\n\n\n\n\n
LOCATION:Top Tables Köln\, Sternengasse 1b\, Köln\, Nordrhein-Westfalen\,
  50676\, Deutschland
X-APPLE-STRUCTURED-LOCATION;VALUE=URI;X-ADDRESS=Sternengasse 1b\, Köln\, N
 ordrhein-Westfalen\, 50676\, Deutschland;X-APPLE-RADIUS=100;X-TITLE=Top Ta
 bles Köln:geo:0,0
END:VEVENT
BEGIN:VTIMEZONE
TZID:Europe/Berlin
X-LIC-LOCATION:Europe/Berlin
BEGIN:STANDARD
DTSTART:20221030T020000
TZOFFSETFROM:+0200
TZOFFSETTO:+0100
TZNAME:CET
END:STANDARD
END:VTIMEZONE
END:VCALENDAR