BEGIN:VCALENDAR
VERSION:2.0
PRODID:-//wp-events-plugin.com//6.5.2//EN
TZID:Europe/Berlin
X-WR-TIMEZONE:Europe/Berlin
BEGIN:VEVENT
UID:1044@top-tables.de
DTSTART;TZID=Europe/Berlin:20241221T100000
DTEND;TZID=Europe/Berlin:20241221T210000
DTSTAMP:20241025T191415Z
URL:https://www.top-tables.de/events/german-mech-mayhem-2024-tomans-storm
SUMMARY:German Mech Mayhem 2024 - Tomans Storm
DESCRIPTION:Hallo liebe Tabletoppende\,\n\nda das offizielle WWE von Cataly
 st auf sich warten lässt\, haben wir uns entschieden ein eigenes großes 
 Event zu veranstalten! Gekämpft wird um den Planeten "Tomans" welcher sic
 h erst vor kurzem dem neu gegründeten Tamar Pakt angeschlossen hat. Doch 
 schläft ein gefährlicher Bär an der Grenze.... Findet heraus ob der Tam
 ar Pakt dem Angriff der Rasallhague Dominion standhalten kann!\n\nTeilnahm
 e bitte über den Top Tables Discord (PN an Rick im Battletech Channel) od
 er per Mail an event@top-tables.de\n\n&nbsp\;\n\nWir freuen uns auf Eure T
 eilnahme\,\n\n&nbsp\;\n\neuer Top Tables Team
ATTACH;FMTTYPE=image/jpeg:https://www.top-tables.de/wp-content/uploads/202
 4/10/51447e46-6ca5-4e5c-8923-d12607863fe3.jpg
CATEGORIES:Community,Event,Massenschlacht,Top Tables Tag
LOCATION:Top Tables\, Sternengasse 1b\, Köln\, NRW\, 50676\, NRW\, Deutsch
 land
X-APPLE-STRUCTURED-LOCATION;VALUE=URI;X-ADDRESS=Sternengasse 1b\, Köln\, N
 RW\, 50676\, NRW\, Deutschland;X-APPLE-RADIUS=100;X-TITLE=Top Tables:geo:0
 ,0
END:VEVENT
BEGIN:VTIMEZONE
TZID:Europe/Berlin
X-LIC-LOCATION:Europe/Berlin
BEGIN:STANDARD
DTSTART:20241027T020000
TZOFFSETFROM:+0200
TZOFFSETTO:+0100
TZNAME:CET
END:STANDARD
END:VTIMEZONE
END:VCALENDAR