BEGIN:VCALENDAR
VERSION:2.0
PRODID:-//wp-events-plugin.com//6.5.2//EN
TZID:Europe/Berlin
X-WR-TIMEZONE:Europe/Berlin
BEGIN:VEVENT
UID:370@top-tables.de
DTSTART;TZID=Europe/Berlin:20221106T100000
DTEND;TZID=Europe/Berlin:20221106T160000
DTSTAMP:20220904T103646Z
URL:https://www.top-tables.de/events/gerard-boom-im-top-tables-koeln-works
 hop-mit-styrodur-2
SUMMARY:Gerard Boom im Top Tables Köln- Geländebau Workshop mit Styrodur
DESCRIPTION:Im Top Tables findet ein 2 Tages Geländebau Workshop unter der
  Leitung von Gerard Boom statt.\n\nEs werden alle Werkzeuge und das benöt
 igte Styrodur wird gestellt.\n\nAm Samstag Abend besteht die Möglichkeit\
 , in gemütlicher Runde mit den Teilnehmenden und Gerard in der Kölner Al
 tstadt essen zu gehen.\n\n&nbsp\;\n\nDer Sonntag findet von 10-16 Uhr stat
 t. Wenn ihr euch für Samstag anmeldet\, gilt die Anmeldung auch direkt f
 ür den Sonntag!!\n\nBei Fragen schreibt gerne eine E-Mail an mareike@top-
 tables.de oder event@top-tables.d0
LOCATION:Top Tables Köln\, Sternengasse 1b\, Köln\, Nordrhein-Westfalen\,
  50676\, Deutschland
X-APPLE-STRUCTURED-LOCATION;VALUE=URI;X-ADDRESS=Sternengasse 1b\, Köln\, N
 ordrhein-Westfalen\, 50676\, Deutschland;X-APPLE-RADIUS=100;X-TITLE=Top Ta
 bles Köln:geo:0,0
END:VEVENT
BEGIN:VTIMEZONE
TZID:Europe/Berlin
X-LIC-LOCATION:Europe/Berlin
BEGIN:STANDARD
DTSTART:20221030T020000
TZOFFSETFROM:+0200
TZOFFSETTO:+0100
TZNAME:CET
END:STANDARD
END:VTIMEZONE
END:VCALENDAR