BEGIN:VCALENDAR
VERSION:2.0
PRODID:-//wp-events-plugin.com//6.5.2//EN
TZID:Europe/Berlin
X-WR-TIMEZONE:Europe/Berlin
BEGIN:VEVENT
UID:814@top-tables.de
DTSTART;TZID=Europe/Berlin;VALUE=DATE:20230518
DTEND;TZID=Europe/Berlin;VALUE=DATE:20230519
DTSTAMP:20230405T125126Z
URL:https://www.top-tables.de/events/feiertag-christi-himmelfahrt
SUMMARY:Feiertag- Christi Himmelfahrt
DESCRIPTION:Das Top Tables ist für euch von 12-18 Uhr geöffnet!
LOCATION:Top Tables Köln\, Sternengasse 1b\, Köln\, Nordrhein-Westfalen\,
  50676\, Deutschland
X-APPLE-STRUCTURED-LOCATION;VALUE=URI;X-ADDRESS=Sternengasse 1b\, Köln\, N
 ordrhein-Westfalen\, 50676\, Deutschland;X-APPLE-RADIUS=100;X-TITLE=Top Ta
 bles Köln:geo:0,0
END:VEVENT
BEGIN:VTIMEZONE
TZID:Europe/Berlin
X-LIC-LOCATION:Europe/Berlin
BEGIN:DAYLIGHT
DTSTART:20230326T030000
TZOFFSETFROM:+0100
TZOFFSETTO:+0200
TZNAME:CEST
END:DAYLIGHT
END:VTIMEZONE
END:VCALENDAR