BEGIN:VCALENDAR
VERSION:2.0
PRODID:-//wp-events-plugin.com//6.5.2//EN
TZID:Europe/Berlin
X-WR-TIMEZONE:Europe/Berlin
BEGIN:VEVENT
UID:847@top-tables.de
DTSTART;TZID=Europe/Berlin:20240120T100000
DTEND;TZID=Europe/Berlin:20240120T190000
DTSTAMP:20231214T160023Z
URL:https://www.top-tables.de/events/eldfall-chronicles-demo-tag-im-top-ta
 bles
SUMMARY:ELDFALL CHRONICLES Demo-Tag im Top Tables
DESCRIPTION:\n\n\n\n\nEs ist der 20. Januar 2024\, und die aufregende Welt 
 von Calad öffnet im Top Tables ihre Tore für ein episches Skirmish-Abent
 euer in den Eldfall Chronicles. Torsten\, lädt euch herzlich ein\, an die
 sem Tag Ruhm und Einfluss zu erringen. Egal\, ob ihr erfahrene Skirmishspi
 eler seid oder gerade erst in die Welt von Calad eintaucht – dieser Tag 
 verspricht spannende Gefechte und unvergessliche Erlebnisse.\n\n\nIhr habt
  die Möglichkeit\, den ganzen Tag lang in die faszinierende Welt von Eldf
 all Chronicles einzutauchen. Trefft auf mächtige Kreaturen und setzt eure
  taktischen Fähigkeiten ein\, um in den Skirmishes zu triumphieren. Ruhm 
 und Einfluss warten darauf\, von euch erobert zu werden.\n\n\nWenn ihr sic
 herstellen möchtet\, dass ihr genügend Zeit für euer Abenteuer habt\, k
 önnt ihr euch im Voraus per E-Mail unter event@top-tables.de anmelden. Da
 durch sichert ihr euch einen festen Termin und könnt euch optimal auf eur
 e Reise durch Calad vorbereiten.\n\n\nAlso\, zieht eure besten Rüstungen 
 an\, schärft eure Klingen und bereitet euch auf einen Tag voller Adrenali
 n und Strategie in Eldfall Chronicles vor. Möge euer Schwert scharf und e
 uer Herz mutig sein\, denn in Calad warten große Herausforderungen und no
 ch größere Belohnungen auf euch!\n\n\n\n\n
ATTACH;FMTTYPE=image/jpeg:https://www.top-tables.de/wp-content/uploads/202
 3/10/409200994_834961181971641_6818623582091443504_n.jpg
CATEGORIES:Community,Demo-Tag
LOCATION:Top Tables\, Sternengasse 1b\, Köln\, NRW\, 50676\, NRW\, Deutsch
 land
X-APPLE-STRUCTURED-LOCATION;VALUE=URI;X-ADDRESS=Sternengasse 1b\, Köln\, N
 RW\, 50676\, NRW\, Deutschland;X-APPLE-RADIUS=100;X-TITLE=Top Tables:geo:0
 ,0
END:VEVENT
BEGIN:VTIMEZONE
TZID:Europe/Berlin
X-LIC-LOCATION:Europe/Berlin
BEGIN:STANDARD
DTSTART:20231029T020000
TZOFFSETFROM:+0200
TZOFFSETTO:+0100
TZNAME:CET
END:STANDARD
END:VTIMEZONE
END:VCALENDAR