BEGIN:VCALENDAR
VERSION:2.0
PRODID:-//wp-events-plugin.com//6.5.2//EN
TZID:Europe/Berlin
X-WR-TIMEZONE:Europe/Berlin
BEGIN:VEVENT
UID:377@top-tables.de
DTSTART;TZID=Europe/Berlin:20221126T120000
DTEND;TZID=Europe/Berlin:20221126T180000
DTSTAMP:20221123T103916Z
URL:https://www.top-tables.de/events/conquest-last-argument-of-kings-demo-
 tag
SUMMARY:"Conquest- Last Argument of Kings" Demo-Tag
DESCRIPTION:Rene entführt euch in die Welt von Conquest. Ihr lernt das Spi
 el und seine Fraktionen kennen.\n\nDer Eintritt ist frei und es ist keine 
 Voranmeldung nötig.
LOCATION:Top Tables Köln\, Sternengasse 1b\, Köln\, Nordrhein-Westfalen\,
  50676\, Deutschland
X-APPLE-STRUCTURED-LOCATION;VALUE=URI;X-ADDRESS=Sternengasse 1b\, Köln\, N
 ordrhein-Westfalen\, 50676\, Deutschland;X-APPLE-RADIUS=100;X-TITLE=Top Ta
 bles Köln:geo:0,0
END:VEVENT
BEGIN:VTIMEZONE
TZID:Europe/Berlin
X-LIC-LOCATION:Europe/Berlin
BEGIN:STANDARD
DTSTART:20221030T020000
TZOFFSETFROM:+0200
TZOFFSETTO:+0100
TZNAME:CET
END:STANDARD
END:VTIMEZONE
END:VCALENDAR