BEGIN:VCALENDAR
VERSION:2.0
PRODID:-//wp-events-plugin.com//6.5.2//EN
TZID:Europe/Berlin
X-WR-TIMEZONE:Europe/Berlin
BEGIN:VEVENT
UID:272@top-tables.de
DTSTART;TZID=Europe/Berlin:20220528T120000
DTEND;TZID=Europe/Berlin:20220528T180000
DTSTAMP:20220501T151221Z
URL:https://www.top-tables.de/events/bolt-action-demo-tag
SUMMARY:Bolt Action Demo-Tag
DESCRIPTION:Bolt Action spielt im 2. Weltkrieg. Ihr bekommt die Gelegenheit
 \, in das System reinzuschnuppern und ein Demo-Spiel zu machen. Anmelden m
 üsst ihr euch nicht\, kommt einfach vorbei!
CATEGORIES:Demo-Tag
LOCATION:Top Tables Köln\, Sternengasse 1b\, Köln\, Nordrhein-Westfalen\,
  50676\, Deutschland
X-APPLE-STRUCTURED-LOCATION;VALUE=URI;X-ADDRESS=Sternengasse 1b\, Köln\, N
 ordrhein-Westfalen\, 50676\, Deutschland;X-APPLE-RADIUS=100;X-TITLE=Top Ta
 bles Köln:geo:0,0
END:VEVENT
BEGIN:VTIMEZONE
TZID:Europe/Berlin
X-LIC-LOCATION:Europe/Berlin
BEGIN:DAYLIGHT
DTSTART:20220327T030000
TZOFFSETFROM:+0100
TZOFFSETTO:+0200
TZNAME:CEST
END:DAYLIGHT
END:VTIMEZONE
END:VCALENDAR