BEGIN:VCALENDAR
VERSION:2.0
PRODID:-//wp-events-plugin.com//6.5.2//EN
TZID:Europe/Berlin
X-WR-TIMEZONE:Europe/Berlin
BEGIN:VEVENT
UID:353@top-tables.de
DTSTART;TZID=Europe/Berlin:20220820T120000
DTEND;TZID=Europe/Berlin:20220820T180000
DTSTAMP:20220621T124440Z
URL:https://www.top-tables.de/events/bloody-kisses-demo-tag
SUMMARY:Bloody Kisses Demo-Tag
DESCRIPTION:Bloody Kisses ist eine Miniaturen Skirmisher im 28mm Maßstab.\
 n\nEs ist der altbekannte Kampf zwischen Gut und Böse sowie die Geschicht
 e einer Jahrhunderte alten Blutfehde. bloody kisses handelt von den Kämpf
 en zwischen Menschen\, Vampiren und Werwölfen im 12. Jahrhundert.\n\nLass
 t euch in diese dunkle Welt entführen und kommt vorbei. In der Zeit von 1
 2-18 Uhr führt euch der Entwickler Andre Franz durch das Spiel.\n\nEin An
 meldung ist nicht nötig und der Eintritt ist frei!
LOCATION:Top Tables Köln\, Sternengasse 1b\, Köln\, Nordrhein-Westfalen\,
  50676\, Deutschland
X-APPLE-STRUCTURED-LOCATION;VALUE=URI;X-ADDRESS=Sternengasse 1b\, Köln\, N
 ordrhein-Westfalen\, 50676\, Deutschland;X-APPLE-RADIUS=100;X-TITLE=Top Ta
 bles Köln:geo:0,0
END:VEVENT
BEGIN:VTIMEZONE
TZID:Europe/Berlin
X-LIC-LOCATION:Europe/Berlin
BEGIN:DAYLIGHT
DTSTART:20220327T030000
TZOFFSETFROM:+0100
TZOFFSETTO:+0200
TZNAME:CEST
END:DAYLIGHT
END:VTIMEZONE
END:VCALENDAR