BEGIN:VCALENDAR
VERSION:2.0
PRODID:-//wp-events-plugin.com//6.5.2//EN
TZID:Europe/Berlin
X-WR-TIMEZONE:Europe/Berlin
BEGIN:VEVENT
UID:378@top-tables.de
DTSTART;TZID=Europe/Berlin:20221126T120000
DTEND;TZID=Europe/Berlin:20221126T180000
DTSTAMP:20221123T103845Z
URL:https://www.top-tables.de/events/bloody-kisses-demo-tag-2
SUMMARY:"Tor zur Welt" Demo-Tag
DESCRIPTION:Der Skirmisher Tor zur Welt ist bei uns im Haus. Ihr könnt das
  Spiel bei uns antesten und mit den Entwicklern quatschen.\n\nDer Eintritt
  ist frei und eine Anmeldung nicht notwendig.\n\n\nHamburg der 1920er Jahr
 e. Über die Häfen kommt nicht nur gutes\, sondern auch allerlei seltsame
 s und teilweise auch überaus bedrohliches in die Stadt. Und so wurde das 
 Amt zur Abwehr Paranormaler Ereignisse – kurz A.A.P.E.- gegründet\, um 
 die übernatürlichen Bedrohungen zu erforschen und zu bekämpfen.\n\nTauc
 he nach und nach in die Welt des Cthulhu-Mythos ein\, ohne diesen an diese
 r Stelle schon durchdringen zu können.\n\nBilde ein schlagkräftiges Team
 \, welches Du durch die Missionen führst und entwickle dieses weiter. Abe
 r Achtung: Rückschläge sind im Kampf gegen den Wahnsinn garantiert.\n\nO
 der schlage Dich auf die Seite des Grauens und erschaffe nach und nach ein
 e Nemesis\, die über die Grenzen des menschlichen Verstandes hinaus reich
 t. \n\n\nAm Demo-Tag habt Ihr darüber hinaus die Möglichkeit\, erste Kap
 itel aus dem bald erscheinenden Expeditionsbuch zu spielen. Begebt Euch an
  abgelegene Orte dieser Welt und untersucht die Schauplätze aus den Cthul
 hu-Romanen.\n&nbsp\;
LOCATION:Top Tables Köln\, Sternengasse 1b\, Köln\, Nordrhein-Westfalen\,
  50676\, Deutschland
X-APPLE-STRUCTURED-LOCATION;VALUE=URI;X-ADDRESS=Sternengasse 1b\, Köln\, N
 ordrhein-Westfalen\, 50676\, Deutschland;X-APPLE-RADIUS=100;X-TITLE=Top Ta
 bles Köln:geo:0,0
END:VEVENT
BEGIN:VTIMEZONE
TZID:Europe/Berlin
X-LIC-LOCATION:Europe/Berlin
BEGIN:STANDARD
DTSTART:20221030T020000
TZOFFSETFROM:+0200
TZOFFSETTO:+0100
TZNAME:CET
END:STANDARD
END:VTIMEZONE
END:VCALENDAR