BEGIN:VCALENDAR
VERSION:2.0
PRODID:-//wp-events-plugin.com//6.5.2//EN
TZID:Europe/Berlin
X-WR-TIMEZONE:Europe/Berlin
BEGIN:VEVENT
UID:668@top-tables.de
DTSTART;TZID=Europe/Berlin:20230211T100000
DTEND;TZID=Europe/Berlin:20230211T200000
DTSTAMP:20230116T181142Z
URL:https://www.top-tables.de/events/battletech-turnier
SUMMARY:Battletech Turnier
DESCRIPTION:Am 11.02.2023 erwartet euch ein etwas anderes Battletech Turnie
 r! Mit insgesamt 15.000 BV2 bemalten Figuren dürft ihr euch über 3 Missi
 onen alles geben. Mission 1 und 2 geschehen "Zeitgleich"\, also müsst ihr
  eure Kräfte klug aufteilen. Danach haben eure Techs 480 Minuten Zeit eu
 re Maschinen wieder frisch zu machen\, bevor es in die dritte Mission geht
  mit dem was ihr noch habt! Erlaubt sind alle Mechs\, Fahrzeuge und Infant
 erieeinheiten die bis 3067 erschienen sind. Ausgeschlossen sind Luft- und 
 Raumjäger\, Dropships usw. Gespielt wird nach dem Total Warfare\, mit ein
  paar wenigen Regeln aus dem Tactical Operations.\n\n&nbsp\;\n\nBeginn: 10
  Uhr\n\nTeilnahmegebühr 10€\, Member bekommen 30% und VIP Member 50% Ra
 batt.\n\nNähere Infos folgen.\n\n&nbsp\;
LOCATION:Top Tables Köln\, Sternengasse 1b\, Köln\, Nordrhein-Westfalen\,
  50676\, Deutschland
X-APPLE-STRUCTURED-LOCATION;VALUE=URI;X-ADDRESS=Sternengasse 1b\, Köln\, N
 ordrhein-Westfalen\, 50676\, Deutschland;X-APPLE-RADIUS=100;X-TITLE=Top Ta
 bles Köln:geo:0,0
END:VEVENT
BEGIN:VTIMEZONE
TZID:Europe/Berlin
X-LIC-LOCATION:Europe/Berlin
BEGIN:STANDARD
DTSTART:20221030T020000
TZOFFSETFROM:+0200
TZOFFSETTO:+0100
TZNAME:CET
END:STANDARD
END:VTIMEZONE
END:VCALENDAR