BEGIN:VCALENDAR
VERSION:2.0
PRODID:-//wp-events-plugin.com//6.5.2//EN
TZID:Europe/Berlin
X-WR-TIMEZONE:Europe/Berlin
BEGIN:VEVENT
UID:844@top-tables.de
DTSTART;TZID=Europe/Berlin:20231118T100000
DTEND;TZID=Europe/Berlin:20231118T200000
DTSTAMP:20230824T091330Z
URL:https://www.top-tables.de/events/battletech-community-turnier
SUMMARY:"Battletech" Community Turnier
DESCRIPTION:Erneut wird im Top Tables ein Battletech Event veranstaltet! Di
 esmal sieht es so aus\, dass alle Teilnehmer eine Hauptarmee mit bis zu 6.
 000 BV2 stellen werden\, und bis zu drei (mindestens einen) Unterstützung
 strupps von jeweils bis zu 4.000 BV2.\nIn drei Missionen\, bei denen jewei
 ls immer die Hauptarmee und einer der Unterstützungstrupps antreten müss
 en\, können die Teilnehmer dann ihr Geschick und taktisches Verständnis 
 unter Beweis stellen. In jeder Mission können bis zu 30 Punkte gewonnen w
 erden\, wer immer am Ende des Tages die meisten Punkte hat\, entscheidet d
 as Event für sich!\n\nEs gibt keine Bemalpflicht\, aber einen Preis für 
 die am besten bemalte Armee\, bei der nur mitgemacht werden kann\, wenn AL
 LE Miniaturen bemalt sind\n\nAlle weitern Infos zum Turnier\, wie z.B. Reg
 eln\, Punkte etc. findet ihr auf unserem Discord Server im Battletech Kana
 l: https://discord.gg/btRrFtQ5\n\nTop Tables Member erhalten 30% und VIP 
 Member 50% auf die Teilnahme
LOCATION:Top Tables Köln\, Sternengasse 1b\, Köln\, Nordrhein-Westfalen\,
  50676\, Deutschland
X-APPLE-STRUCTURED-LOCATION;VALUE=URI;X-ADDRESS=Sternengasse 1b\, Köln\, N
 ordrhein-Westfalen\, 50676\, Deutschland;X-APPLE-RADIUS=100;X-TITLE=Top Ta
 bles Köln:geo:0,0
END:VEVENT
BEGIN:VTIMEZONE
TZID:Europe/Berlin
X-LIC-LOCATION:Europe/Berlin
BEGIN:STANDARD
DTSTART:20231029T020000
TZOFFSETFROM:+0200
TZOFFSETTO:+0100
TZNAME:CET
END:STANDARD
END:VTIMEZONE
END:VCALENDAR