BEGIN:VCALENDAR
VERSION:2.0
PRODID:-//wp-events-plugin.com//6.5.2//EN
TZID:Europe/Berlin
X-WR-TIMEZONE:Europe/Berlin
BEGIN:VEVENT
UID:819@top-tables.de
DTSTART;TZID=Europe/Berlin:20230520T100000
DTEND;TZID=Europe/Berlin:20230520T200000
DTSTAMP:20230420T135457Z
URL:https://www.top-tables.de/events/a-song-of-ice-and-fire-community-turn
 ier
SUMMARY:"A Song of Ice and Fire" Community Turnier
DESCRIPTION:Max. 12 Teilnehmende\n\nMember und VIP Member erhalten den übl
 ichen Rabatt von 30 bzw. 50%\n\n 	 Keine Bemalpflicht\n 	3 Runden á 2:15
  Std.\n 	folgende Missionen werden gespielt:\n- Dark Wings\, Dark Words\n-
  A Game of Thrones\n- A Clash of Kings\n\nPro Person 2 Listen á 40 Punkte
 \, wir spielen nach Schweizer System\, aktuelle Regeln und aktuelle FAQs w
 erden genutzt
LOCATION:Top Tables Köln\, Sternengasse 1b\, Köln\, Nordrhein-Westfalen\,
  50676\, Deutschland
X-APPLE-STRUCTURED-LOCATION;VALUE=URI;X-ADDRESS=Sternengasse 1b\, Köln\, N
 ordrhein-Westfalen\, 50676\, Deutschland;X-APPLE-RADIUS=100;X-TITLE=Top Ta
 bles Köln:geo:0,0
END:VEVENT
BEGIN:VTIMEZONE
TZID:Europe/Berlin
X-LIC-LOCATION:Europe/Berlin
BEGIN:DAYLIGHT
DTSTART:20230326T030000
TZOFFSETFROM:+0100
TZOFFSETTO:+0200
TZNAME:CEST
END:DAYLIGHT
END:VTIMEZONE
END:VCALENDAR