BEGIN:VCALENDAR
VERSION:2.0
PRODID:-//wp-events-plugin.com//6.5.2//EN
TZID:Europe/Berlin
X-WR-TIMEZONE:Europe/Berlin
BEGIN:VEVENT
UID:826@top-tables.de
DTSTART;TZID=Europe/Berlin:20230514T120000
DTEND;TZID=Europe/Berlin:20230514T200000
DTSTAMP:20230426T061834Z
URL:https://www.top-tables.de/events/6-ladengeburtstag-wir-lassen-die-kork
 en-knallen
SUMMARY:6. Ladengeburtstag - wir lassen die Korken knallen
DESCRIPTION:Heute feiern wir den Ladengeburtstag ausgiebig: Demo-Tische\, S
 peedpainting\, Tombola\, Burger und Würstchen (von Beton Meat\, Skeptiker
  wurden in der Vergangenheit überzeugt :) ) erwarten euch.\n\nSchaut vorb
 ei und stoßt mit uns auf 6 Jahre Top Tables Köln an!
END:VEVENT
BEGIN:VTIMEZONE
TZID:Europe/Berlin
X-LIC-LOCATION:Europe/Berlin
BEGIN:DAYLIGHT
DTSTART:20230326T030000
TZOFFSETFROM:+0100
TZOFFSETTO:+0200
TZNAME:CEST
END:DAYLIGHT
END:VTIMEZONE
END:VCALENDAR