BEGIN:VCALENDAR
VERSION:2.0
PRODID:-//wp-events-plugin.com//6.5.2//EN
TZID:Europe/Berlin
X-WR-TIMEZONE:Europe/Berlin
BEGIN:VEVENT
UID:836@top-tables.de
DTSTART;TZID=Europe/Berlin:20230624T000000
DTEND;TZID=Europe/Berlin:20230624T080000
DTSTAMP:20230621T180547Z
URL:https://www.top-tables.de/events/40-k-turnier-10-edition-mitternachtst
 urnier
SUMMARY:40 K Turnier 10. Edition Mitternachtsturnier
DESCRIPTION:Das erste Turnier zur neuen Edition beginnt bei uns direkt um 0
 :00 Uhr. \nIhr spielt im Team mit jeweils 750 Punkten\, also jedes Team in
 sgesamt 1500 Punkte.\n\nGespielt wird natürlich nach den neuen Regeln :) 
 \n\n3 Runden á zwei Stunden\n\nMissionen:\n\n1. Runde: Primärmission- Wi
 chtiges Gebiet\, Aufstellung- Hammer und Amboss\, Missionsregel- Voxstöru
 ngen\n\n2. Runde: Primärmission- Einnehmen und Halten\, Aufstellung- Such
 en und Zerstören\, Missionsregel- Minenfelder\n\n3. Runde: Primärmission
 - Lösche den Feind aus\, Aufstellung- Schlachtlinie\, Missionsziele- Vers
 orgungslinie \n\nNatürlich wird auch mit Sekundärmissionen und Wagnissen
  gespielt.\n\nTop Tables Member bekommen 30% und VIP Member 50% Rabatt auf
  ihre Teilnahme. \n\nDer Verkauf der Leviathan Box beginnt bei uns um 0:01
  Uhr am 24.06.23\n\nWICHTIG: JEDER Spieler muss sich einzeln anmelden! Aus
  technischen Gründen leider nicht anders möglich.
LOCATION:Top Tables Köln\, Sternengasse 1b\, Köln\, Nordrhein-Westfalen\,
  50676\, Deutschland
X-APPLE-STRUCTURED-LOCATION;VALUE=URI;X-ADDRESS=Sternengasse 1b\, Köln\, N
 ordrhein-Westfalen\, 50676\, Deutschland;X-APPLE-RADIUS=100;X-TITLE=Top Ta
 bles Köln:geo:0,0
END:VEVENT
BEGIN:VTIMEZONE
TZID:Europe/Berlin
X-LIC-LOCATION:Europe/Berlin
BEGIN:DAYLIGHT
DTSTART:20230326T030000
TZOFFSETFROM:+0100
TZOFFSETTO:+0200
TZNAME:CEST
END:DAYLIGHT
END:VTIMEZONE
END:VCALENDAR