BEGIN:VCALENDAR
VERSION:2.0
PRODID:-//wp-events-plugin.com//6.5.2//EN
TZID:Europe/Berlin
X-WR-TIMEZONE:Europe/Berlin
BEGIN:VEVENT
UID:1026@top-tables.de
DTSTART;TZID=Europe/Berlin:20240817T100000
DTEND;TZID=Europe/Berlin:20240817T210000
DTSTAMP:20240731T162230Z
URL:https://www.top-tables.de/events/2-koelner-dom-gemetzel-age-of-sigmar-
 turnier
SUMMARY:2. Kölner Dom Gemetzel - Age of Sigmar Turnier
DESCRIPTION:Hallo liebe Tabletoppende\,\n\n&nbsp\;\n\ndas Kölner Dom Gemet
 zel geht in die 2. Runde. Gespielt selbstverständlich nach den neuen Rege
 ln der 4. Edition.\n\nIhr könnt Euch unter: https://www.tabletopturniere.
 de/t3_tournament.php?tid=35880 anmelden.\n\n&nbsp\;\n\nViel Spaß!\n\nEuer
  Top Tables Team
END:VEVENT
BEGIN:VTIMEZONE
TZID:Europe/Berlin
X-LIC-LOCATION:Europe/Berlin
BEGIN:DAYLIGHT
DTSTART:20240331T030000
TZOFFSETFROM:+0100
TZOFFSETTO:+0200
TZNAME:CEST
END:DAYLIGHT
END:VTIMEZONE
END:VCALENDAR